BEGIN:VCALENDAR
VERSION:2.0
PRODID:-//Cleo Libro - ECPv6.15.20//NONSGML v1.0//EN
CALSCALE:GREGORIAN
METHOD:PUBLISH
X-ORIGINAL-URL:https://cleo-libro.de
X-WR-CALDESC:Veranstaltungen für Cleo Libro
REFRESH-INTERVAL;VALUE=DURATION:PT1H
X-Robots-Tag:noindex
X-PUBLISHED-TTL:PT1H
BEGIN:VTIMEZONE
TZID:Europe/Berlin
BEGIN:DAYLIGHT
TZOFFSETFROM:+0100
TZOFFSETTO:+0200
TZNAME:CEST
DTSTART:20240331T010000
END:DAYLIGHT
BEGIN:STANDARD
TZOFFSETFROM:+0200
TZOFFSETTO:+0100
TZNAME:CET
DTSTART:20241027T010000
END:STANDARD
BEGIN:DAYLIGHT
TZOFFSETFROM:+0100
TZOFFSETTO:+0200
TZNAME:CEST
DTSTART:20250330T010000
END:DAYLIGHT
BEGIN:STANDARD
TZOFFSETFROM:+0200
TZOFFSETTO:+0100
TZNAME:CET
DTSTART:20251026T010000
END:STANDARD
BEGIN:DAYLIGHT
TZOFFSETFROM:+0100
TZOFFSETTO:+0200
TZNAME:CEST
DTSTART:20260329T010000
END:DAYLIGHT
BEGIN:STANDARD
TZOFFSETFROM:+0200
TZOFFSETTO:+0100
TZNAME:CET
DTSTART:20261025T010000
END:STANDARD
END:VTIMEZONE
BEGIN:VEVENT
DTSTART;TZID=Europe/Berlin:20251125T193000
DTEND;TZID=Europe/Berlin:20251125T213000
DTSTAMP:20260421T122848
CREATED:20251103T100202Z
LAST-MODIFIED:20251103T100251Z
UID:349-1764099000-1764106200@cleo-libro.de
SUMMARY:Soli-Paneltalk zum Internationalen Tag gegen Gewalt an Flinta*
DESCRIPTION:Auch dieses Jahr wollen wir anlässlich des Internationalen Tages gegen Gewalt an Flinta*  mit einem Paneltalk laut werden. Diesmal widmen wir uns dem Thema wie weibliche* Körper in Medien dargestellt werden\, wie Sichtbarkeit und Objektivierung funktionieren und wie daraus subtile Formen von Gewalt entstehen\, wenn der Blick zur Norm wird. \nWir freuen uns auf: \nLaura Méritt\nKommunikationswissenschaftlerin\, Autorin und Aktivistin im sex­positiven Feminismus. \nLaura setzt sich seit über drei Jahrzehnten dafür ein\, wie Körper und Medien zusammenwirken und regt dabei an Sichtbarkeit neu zu denken.  \n Nike Wessel\n Kulturwissenschaftlerin und Podcasterin. \nNike verbindet Medien\, Feminismus und Nachhaltigkeit mit Blick auf Alltag und Gesellschaft. \n Cleo Libro\nFreie Autorin und Feministin. In ihrem Buch Gleichstellung beschäftigt sie sich mit Lust\, Macht und Normen im eigenen Leben und in der Gesellschaft.  \nDurch Bewusstmachung der Normalisierung des gewaltvollen Blicks hinterfragen wir unseren Medienkonsum und entwickeln Ideen\, um diese Mechanismen brechen zu können. \nWelche Bilder prägen meine Wahrnehmung? Wie wirkt der Blick auf meinen Körper\, meine Haltung\, mein Selbst? Und wie können wir gemeinsam diese Machtstrukturen sichtbar machen – und ihnen etwas entgegensetzen? \nMit diesem Abend unterstützen wir die Neuauflage von “Frauenkörper Neugesehen” von Laura Merrit. Für 35 Euro bestellst Du das Buch (wird versandt\, sobald das Buch veröffentlicht ist!) und erhältst einmal Eintritt zum Paneltalk. Für jedes vorbestellte Buch bestellen wir eins für den Verkauf im Laden vor. \nWir\, La Blutique – Periodenladen sind ein kleines FLINTA*-Team und haben diesen Raum mit viel Aufmerksamkeit und Haltung geschaffen haben. Tagsüber betreiben wir unseren Laden für nachhaltige Menstruationsprodukte\, abends öffnen wir ihn für Gespräche\, die sonst oft zu leise bleiben.
URL:https://cleo-libro.de/event/soli-paneltalk-zum-internationalen-tag-gegen-gewalt-an-flinta/
LOCATION:La Blutique Periodenladen\, Friedrichshain\, Berlin
CATEGORIES:Interview
END:VEVENT
BEGIN:VEVENT
DTSTART;TZID=Europe/Berlin:20251117T193000
DTEND;TZID=Europe/Berlin:20251117T210000
DTSTAMP:20260421T122848
CREATED:20250310T114630Z
LAST-MODIFIED:20250310T114630Z
UID:281-1763407800-1763413200@cleo-libro.de
SUMMARY:Lesung bei kom!ma
DESCRIPTION:Der kom!ma e. V. Düsseldorf und die Buchhandlung BiBaBuZe veranstalten gemeinsam eine Lesung aus „Gleichstellung“ in Düsseldorf! Kommt zahlreich für Gespräch und Meet & Greet.
URL:https://cleo-libro.de/event/lesung-bei-komma-cleo-libro/
LOCATION:Buchhandlung BiBaBuZe\, Aachener Straße 1\, Düsseldorf\, 40223\, Germany
END:VEVENT
BEGIN:VEVENT
DTSTART;TZID=Europe/Berlin:20251112T173000
DTEND;TZID=Europe/Berlin:20251112T200000
DTSTAMP:20260421T122848
CREATED:20251103T095815Z
LAST-MODIFIED:20251103T095815Z
UID:344-1762968600-1762977600@cleo-libro.de
SUMMARY:Cocktails & Conversation: Berlin Intim 2. Staffel-Finale
DESCRIPTION:Eine Coaching-Session mit Autorin\, Feministin und Podcasterin Cleo Libro\nIn unserer Live-Podcast-Serie in der Rooftop-Bar Bar Clara erwarten dich frische Ideen und inspirierende Geschichten\, die zum Nachdenken anregen. Lass dich von spannenden Themen mitreißen – am besten mit einem Signature-Cocktail in der Hand. \nWas tun\, wenn langjährige Partner*innen unterschiedliche sexuelle Verlangen haben? \nSei live dabei\, wenn der Podcast Berlin Intim – Sex Coaching with Lea Holzfurtner das 2. Staffel-Finale aufzeichnet. In diesem Gespräch coacht Holzfurtner Cleo Libro\, die in einer nicht-monogamen Beziehung lebt und Autorin des Buches Gleichstellung ist. Cleo möchte ihre Wünsche ausdrücken\, kämpft aber mit Angst vor Zurückweisung – und hatte in letzter Zeit Schwierigkeiten\, beim Solo-Sex zum Orgasmus zu kommen. \nWie spricht man am besten solche Themen an? Was tun\, wenn Fantasien nicht geteilt werden? \nErlebe ein echtes Coaching über Lust\, mutige Gespräche und die die Kunst\, zu sagen\, was man will – inklusive anschließendem Q&A\, in dem du deine Fragen direkt an Lea und Cleo stellen kannst.
URL:https://cleo-libro.de/event/cocktails-conversation-berlin-intim-2-staffel-finale/
LOCATION:Fotografiska Berlin
CATEGORIES:Interview
END:VEVENT
BEGIN:VEVENT
DTSTART;TZID=Europe/Berlin:20251010T193000
DTEND;TZID=Europe/Berlin:20251010T210000
DTSTAMP:20260421T122848
CREATED:20250621T184348Z
LAST-MODIFIED:20250709T131312Z
UID:324-1760124600-1760130000@cleo-libro.de
SUMMARY:Lesung bei La Blutique
DESCRIPTION:Ich lese im einzig wahren Periodenladen Berlins aus „Gleichstellung“ und diskutiere mit dem Publikum die Frage\, wieso manche Körperflüssigkeiten als sexy gelten und andere verschämt versteckt werden. Kommt vorbei und diskutiert mit!
URL:https://cleo-libro.de/event/lesung-bei-la-blutique/
LOCATION:La Blutique Periodenladen\, Friedrichshain\, Berlin
END:VEVENT
BEGIN:VEVENT
DTSTART;TZID=Europe/Berlin:20250921T113000
DTEND;TZID=Europe/Berlin:20250921T133000
DTSTAMP:20260421T122848
CREATED:20250621T183522Z
LAST-MODIFIED:20250717T122509Z
UID:318-1758454200-1758461400@cleo-libro.de
SUMMARY:Lesung im Lio Salon
DESCRIPTION:Ich freue mich schon sehr auf meine Lesung aus „Gleichstellung“ im privaten FLINTA Salon von Lio Brix! Q&A im Anschluss und jede Menge Austausch natürlich inklusive! Es wird keinen Eintritt geben\, dafür einen PayPal-Link für Trinkgeld! \nAnmeldung über Lios Insta-Account: @liofemtalk
URL:https://cleo-libro.de/event/lesung-im-lio-salon/
LOCATION:Berlin
END:VEVENT
BEGIN:VEVENT
DTSTART;TZID=Europe/Berlin:20250711T193000
DTEND;TZID=Europe/Berlin:20250711T210000
DTSTAMP:20260421T122848
CREATED:20250621T183113Z
LAST-MODIFIED:20250621T183113Z
UID:315-1752262200-1752267600@cleo-libro.de
SUMMARY:Let it Flow!
DESCRIPTION:Let it flow – Lesung & Talk in La Blutique\, Berlin\nMenstruation\, Squirting und andere sexy Flüssigkeiten\nLust ist nicht sauber.\nSie ist feucht\, wild\, lebendig – und manchmal blutig.\nUnd genau deshalb reden wir drüber. Offen\, sinnlich und mit jeder Menge Humor. \nLisa Opel – Autorin\, Speakerin und Stimme hinter dem Podcast DEEP&DIRTY – steht für eine neue Art von Erotik: ehrlich\, verspielt\, körperlich. Ihre Texte zeigen\, wie heiß das Leben sein kann\, wenn wir aufhören\, uns für das Echte zu schämen.\nAn diesem Abend in La Blutique Berlin liest sie zwei ihrer gefeierten Kurzgeschichten (auf Englisch) – Geschichten\, die Menstruationssex nicht erklären oder rechtfertigen\, sondern einfach zeigen\, wie verdammt sexy das sein kann. \nDurch den Abend führt Cleo Libro – Autorin\, Podcasterin und leidenschaftliche Fragenstellerin\, die sich seit Jahren mit Sexualität\, gesellschaftlichem Wandel und Tabus beschäftigt.\nNach der Lesung spricht sie gemeinsam mit Lisa in einem moderierten Gespräch und Q&A (auf Deutsch) über Periodensex\, Körperflüssigkeiten\, Feuchtigkeit und Schamgrenzen – und darüber\, warum gerade das\, was als „zu viel“\, „zu intim“\, „nicht sexy“ oder sogar „eklig“ gilt\, oft der Schlüssel zu echter Lust\, Nähe und Selbstermächtigung ist. \nAnschließend bleibt viel Raum für Austausch mit dem Publikum. Für Fragen\, Gedanken\, Erfahrungen – oder einfach fürs Dabeisein und Zuhören. Offen\, ehrlich\, ohne Druck. \nEin Abend für Lust\, für echte Gespräche\, für neue Perspektiven auf Sex\, Körper und Intimität. Ohne Scham. Ohne Tabus. Mit ganz viel Sinnlichkeit und einem Augenzwinkern.
URL:https://cleo-libro.de/event/let-it-flow/
LOCATION:La Blutique Periodenladen\, Friedrichshain\, Berlin
END:VEVENT
BEGIN:VEVENT
DTSTART;TZID=Europe/Berlin:20250411T180000
DTEND;TZID=Europe/Berlin:20250411T200000
DTSTAMP:20260421T122848
CREATED:20250222T150105Z
LAST-MODIFIED:20250310T113946Z
UID:269-1744394400-1744401600@cleo-libro.de
SUMMARY:Lesung im Freudensalon
DESCRIPTION:Cleo Libro liest aus und diskutiert über „Gleichstellung“ im Freudensalon von Dr. Laura Méritt in Kreuzberg! Meldet euch an und genießt einen feministisch-anregenden Abend in gemütlicher Kulisse und in inspirierender Gesellschaft!
URL:https://cleo-libro.de/event/lesung-im-freudensalon/
LOCATION:Sexclusivitäten Freudensalon\, Fürbringerstr. 2\, 10961 Berlin\, Berlin
CATEGORIES:Lesung
END:VEVENT
BEGIN:VEVENT
DTSTART;TZID=Europe/Berlin:20250403T200000
DTEND;TZID=Europe/Berlin:20250403T213000
DTSTAMP:20260421T122848
CREATED:20250126T143909Z
LAST-MODIFIED:20250222T145003Z
UID:238-1743710400-1743715800@cleo-libro.de
SUMMARY:Lesung bei Le Pop Lingerie
DESCRIPTION:Cleo Libro liest in ihrem allerliebsten Lieblingsladen von ganz Köln aus „Gleichstellung“! Eintritt auf Spendenbasis\, kommt rum!
URL:https://cleo-libro.de/event/lesung-bei-le-pop-lingerie/
LOCATION:Le Pop Lingerie\, Geisselstr. 10\, Köln\, NRW\, 50823\, Germany
CATEGORIES:Lesung
END:VEVENT
BEGIN:VEVENT
DTSTART;VALUE=DATE:20250329
DTEND;VALUE=DATE:20250330
DTSTAMP:20260421T122848
CREATED:20250126T144953Z
LAST-MODIFIED:20250222T144645Z
UID:246-1743206400-1743292799@cleo-libro.de
SUMMARY:Cleo @LitPop
DESCRIPTION:Im Rahmen der Leipziger Buchmesse wird Cleo Libro auf der LitPop 2025 vertreten sein!
URL:https://cleo-libro.de/event/cleo-litpop/
LOCATION:Buchmesse Leipzig\, Kongresshalle am Zoo\, Leipzig\, Sachsen\, Germany
END:VEVENT
BEGIN:VEVENT
DTSTART;TZID=Europe/Berlin:20250320T180000
DTEND;TZID=Europe/Berlin:20250320T200000
DTSTAMP:20260421T122848
CREATED:20250124T151523Z
LAST-MODIFIED:20250222T144957Z
UID:233-1742493600-1742500800@cleo-libro.de
SUMMARY:Lesung bei Dussmann
DESCRIPTION:Cleo Libro liest aus „Gleichstellung“ bei Dussmann\, das Kulturkaufhaus in Berlin. Kommt vorbei\, der Eintritt ist frei!
URL:https://cleo-libro.de/event/lesung-bei-dussmann/
LOCATION:Dussmann\, Friedrichstraße 90\, Berlin Mitte\, Berlin\, 10117\, Germany
CATEGORIES:Lesung
END:VEVENT
BEGIN:VEVENT
DTSTART;TZID=Europe/Berlin:20250311T190000
DTEND;TZID=Europe/Berlin:20250311T200000
DTSTAMP:20260421T122848
CREATED:20250204T163541Z
LAST-MODIFIED:20250222T144946Z
UID:263-1741719600-1741723200@cleo-libro.de
SUMMARY:Lesung bei Thalia Wien
DESCRIPTION:Zum ersten Mal in Wien! Cleo Libro liest aus „Gleichstellung“ bei Thalia in der Mariahilfer Straße – der Eintritt ist frei!
URL:https://cleo-libro.de/event/lesung-bei-thalia-wien/
LOCATION:Thalia Wien\, Mariahilfer Straße 99\, Wien\, 1060\, Austria
CATEGORIES:Lesung
END:VEVENT
BEGIN:VEVENT
DTSTART;TZID=Europe/Berlin:20250306T190000
DTEND;TZID=Europe/Berlin:20250306T203000
DTSTAMP:20260421T122848
CREATED:20241218T165602Z
LAST-MODIFIED:20250222T144925Z
UID:217-1741287600-1741293000@cleo-libro.de
SUMMARY:Buchpremiere!
DESCRIPTION:Die Premiere von und allererste Lesung aus „Gleichstellung – Sex zwischen Wunsch und Wirklichkeit. Ein feministischer Selbstversuch“ am 6. März im großartigen Buchladen „Literaturensohn“ von Coco Meurer in Berlin! \nCleo Libro liest zum ersten Mal öffentlich aus ihrem Sachbuch-Debut\, signiert Bücher und freut sich auf jedes bekannte und unbekannte Gesicht! Kommt zahlreich und stoßt mit der Autorin auf diese absolute Premiere an!
URL:https://cleo-libro.de/event/buchpremiere/
LOCATION:Literaturensohn book shop\, Brunnenstr. 34\, Berlin Mitte\, Germany
CATEGORIES:Lesung
END:VEVENT
END:VCALENDAR